BEGIN:VCALENDAR
VERSION:2.0
PRODID:-//Η Πόλη που θέλω - ECPv5.3.2.1//NONSGML v1.0//EN
CALSCALE:GREGORIAN
METHOD:PUBLISH
X-WR-CALNAME:Η Πόλη που θέλω
X-ORIGINAL-URL:https://ipolipouthelo.gr
X-WR-CALDESC:Η Πόλη που θέλω - Εκδηλώσεις
BEGIN:VTIMEZONE
TZID:Europe/Helsinki
BEGIN:DAYLIGHT
TZOFFSETFROM:+0200
TZOFFSETTO:+0300
TZNAME:EEST
DTSTART:20190331T010000
END:DAYLIGHT
BEGIN:STANDARD
TZOFFSETFROM:+0300
TZOFFSETTO:+0200
TZNAME:EET
DTSTART:20191027T010000
END:STANDARD
END:VTIMEZONE
BEGIN:VEVENT
DTSTART;TZID=Europe/Helsinki:20190304T173000
DTEND;TZID=Europe/Helsinki:20190304T203000
DTSTAMP:20260424T175933
CREATED:20190312T092931Z
LAST-MODIFIED:20190312T093918Z
UID:391-1551720600-1551731400@ipolipouthelo.gr
SUMMARY:Κοπή βασιλόπιτας
DESCRIPTION:Σας προσκαλούμε τη Δευτέρα 4 Μαρτίου 2019\, στις 17:30\, στο Δημοτικό Αναψυκτήριο Ηλιούπολης (Ύδρας & Μνησικλέους) για την κοπή της βασιλόπιτας της δημοτικής παράταξης «Η Πόλη που θέλω». \nΗ παρουσία σας θα δώσει δύναμη στην προσπάθειά μας. \nΓαβριήλ Αραμπατζής\nΥποψήφιος Δήμαρχος Ηλιούπολης
URL:https://ipolipouthelo.gr/event/%ce%ba%ce%bf%cf%80%ce%ae-%ce%b2%ce%b1%cf%83%ce%b9%ce%bb%cf%8c%cf%80%ce%b9%cf%84%ce%b1%cf%82/
LOCATION:Δημοτικό Αναψυκτήριο Ηλιούπολης\, Ύδρας και Μνησικλέους\, Ηλιούπολη\, Ελλάδα
ATTACH;FMTTYPE=image/jpeg:https://ipolipouthelo.gr/wp-content/uploads/2019/03/prosliksi-pita.jpg
END:VEVENT
END:VCALENDAR