BEGIN:VCALENDAR
VERSION:2.0
PRODID:-//Η Πόλη που θέλω - ECPv5.3.2.1//NONSGML v1.0//EN
CALSCALE:GREGORIAN
METHOD:PUBLISH
X-WR-CALNAME:Η Πόλη που θέλω
X-ORIGINAL-URL:https://ipolipouthelo.gr
X-WR-CALDESC:Η Πόλη που θέλω - Εκδηλώσεις
BEGIN:VTIMEZONE
TZID:Europe/Helsinki
BEGIN:DAYLIGHT
TZOFFSETFROM:+0200
TZOFFSETTO:+0300
TZNAME:EEST
DTSTART:20190331T010000
END:DAYLIGHT
BEGIN:STANDARD
TZOFFSETFROM:+0300
TZOFFSETTO:+0200
TZNAME:EET
DTSTART:20191027T010000
END:STANDARD
END:VTIMEZONE
BEGIN:VEVENT
DTSTART;VALUE=DATE:20190308
DTEND;VALUE=DATE:20190309
DTSTAMP:20260424T191845
CREATED:20190312T094145Z
LAST-MODIFIED:20190312T094145Z
UID:398-1552003200-1552089599@ipolipouthelo.gr
SUMMARY:8 Μαρτίου: Ημέρα της Γυναίκας
DESCRIPTION:Η 8 Μαρτίου αποτελεί ημέρα τιμής και προβληματισμού\, ημέρα μνήμης των διαχρονικών αγώνων του γυναικείου κινήματος\, ημέρα αποτίμησης αλλά και αφετηρία οριοθέτησης νέων στόχων για την κατοχύρωση της ισότητας\, για το δικαίωμα στην ανθρώπινη αξιοπρέπεια και τη ζωή. Σηματοδοτεί τις θυσίες και τα επιτεύγματα των γυναικών για πάνω από έναν αιώνα\, όπου όλοι μας άνδρες και γυναίκες οφείλουμε να θυμόμαστε με σεβασμό.\nΤο έναυσμα για την καταξίωση του γυναικείου ρόλου\, δόθηκε με την Λυσιστράτη\, που πρωτοστατεί σε μια φεμινιστική απεργία\, προκειμένου να τελειώσει ο πόλεμος των ανδρών. Εμφανίζεται ιστορικά τον 19 αιώνα\, με τις αγωνιστικές κινητοποιήσεις των γυναικών στις ΗΠΑ\, θεσπίζεται τον 20 αιώνα ως Παγκόσμια Ημέρα Γυναίκας από τον ΟΗΕ\, διεκδικώντας να καταστεί ο 21 αιώνας \, ως ο αιώνας καταξίωσης της γυναίκας\, με τους πολλαπλούς ρόλους. Ας μη ξεχνάμε τη φράση του Νίκου Καζαντζάκη: “Τα τετραθέμελα του κόσμου: ψωμί\, κρασί\, φωτιά\, γυναίκα”.\nΔεσμευόμαστε ως νέα Δημοτική Αρχή\, την ανάληψη πρωτοβουλιών για την εφαρμογή αποτελεσματικών πολιτικών\, στοχεύοντας στην εξάλειψη κάθε είδους διάκρισης και ανισότητας και εγγυόμαστε την ισότιμη συμμετοχή των γυναικών σε όλες τις κοινωνικές εκφάνσεις\, με δικαιώματα και υποχρεώσεις.\nΜπορούμε “Η Πόλη που θέλω” να γίνει η Πόλη που θέλουμε!\n#ipolipouthelo
URL:https://ipolipouthelo.gr/event/8-%ce%bc%ce%b1%cf%81%cf%84%ce%af%ce%bf%cf%85-%ce%b7%ce%bc%ce%ad%cf%81%ce%b1-%cf%84%ce%b7%cf%82-%ce%b3%cf%85%ce%bd%ce%b1%ce%af%ce%ba%ce%b1%cf%82/
END:VEVENT
END:VCALENDAR